BEGIN:VCALENDAR
VERSION:2.0
PRODID:-//wp-events-plugin.com//7.2.3.1//EN
BEGIN:VEVENT
UID:541@tjalveok.se
DTSTART:20250327T083000Z
DTEND:20250327T100000Z
DTSTAMP:20250311T221054Z
URL:https://tjalveok.se/evenemang/veteran-ol-ifk-linkoping-2/
SUMMARY:Veteran-OL IFK Linköping
DESCRIPTION:Eventor - Tävlingsinformation: IFK Linköpings veterantävling
 \n\nTävlingsarena: Vidingsjö.
CATEGORIES:Tävling
END:VEVENT
END:VCALENDAR