BEGIN:VCALENDAR
VERSION:2.0
PRODID:-//wp-events-plugin.com//7.2.3.1//EN
BEGIN:VEVENT
UID:892@tjalveok.se
DTSTART:20260425T100000Z
DTEND:20260425T120000Z
DTSTAMP:20260228T163343Z
URL:https://tjalveok.se/evenemang/uh-kampen-medel/
SUMMARY:UH kampen\, medel
DESCRIPTION:&nbsp\;\n\nAnmälan via eventor\n\nEventor - Tävlingsinformati
 on: UH-kampen\, dag 1\n\n&nbsp\;
END:VEVENT
END:VCALENDAR