BEGIN:VCALENDAR
VERSION:2.0
PRODID:-//wp-events-plugin.com//7.2.3.1//EN
BEGIN:VEVENT
UID:746@tjalveok.se
DTSTART:20260319T164500Z
DTEND:20260319T174500Z
DTSTAMP:20260311T181516Z
URL:https://tjalveok.se/evenemang/traning-yngre-tom-12-ar-34/
SUMMARY:Träning yngre tom 12 år
DESCRIPTION:Utomhusträning för de yngre tom 12 år/grön\, vit\, gula gru
 ppen\n\nPlats: Tjalvevården\n\nKläder efter väder. Pannlampa/Ficklampa 
 behövs!\n\nGlöm inte anmälan i excelfilen.  &gt\; Anmälan till trän
 ingar - Google Kalkylark (senast dagen före träning kl 12)\n\nAnsvarig 
 tränare är Hillevi Luks med föräldrar\n\n&nbsp\;\n\n&nbsp\;
CATEGORIES:Träning
END:VEVENT
END:VCALENDAR