BEGIN:VCALENDAR
VERSION:2.0
PRODID:-//wp-events-plugin.com//7.2.3.1//EN
BEGIN:VEVENT
UID:735@tjalveok.se
DTSTART:20251204T164500Z
DTEND:20251204T174500Z
DTSTAMP:20251110T102218Z
URL:https://tjalveok.se/evenemang/traning-yngre-tom-12-ar-23/
SUMMARY:Träning yngre tom 12 år
DESCRIPTION:Inomhusträning för de yngre tom 12 år\n\nDen här torsdagen 
 kör vi en hinderbana som barnen skapar.\n\nPlats: Hagebyhallen vid Sydval
 len 58°34'15.6\, 16°11'58.8\n\nDörren är öppen kl. 17.35 till 17.40.\
 n\nGlöm inte anmälan i excelfilen.  &gt\; Anmälan till träningar - G
 oogle Kalkylark (senast dagen före träning kl 12)\n\nAnsvarigtränare 
 är Hillevi Luks med föräldrar\n\nStöttning barngympan - Google Kalkyla
 rk\n\n&nbsp\;
CATEGORIES:Träning
END:VEVENT
END:VCALENDAR