BEGIN:VCALENDAR
VERSION:2.0
PRODID:-//wp-events-plugin.com//7.2.3.1//EN
BEGIN:VEVENT
UID:732@tjalveok.se
DTSTART:20251120T164500Z
DTEND:20251120T174500Z
DTSTAMP:20251110T102007Z
URL:https://tjalveok.se/evenemang/traning-yngre-tom-12-ar-20/
SUMMARY:Träning yngre tom 12 år
DESCRIPTION:Inomhusträning för de yngre tom 12 år\n\nDen här torsdagen 
 kör vi en inomhusorientering med fokus på norr-söder-öster-väster\n\n
 Plats: Hagebyhallen vid Sydvallen 58°34'15.6\, 16°11'58.8\n\nDörren är
  öppen kl. 17.35 till 17.40.\n\nGlöm inte anmälan i excelfilen.  &gt\
 ; Anmälan till träningar - Google Kalkylark (senast dagen före tränin
 g kl 12)\n\nAnsvarigtränare är Hillevi Luks med föräldrar\n\nStöttnin
 g barngympan - Google Kalkylark\n\n&nbsp\;
CATEGORIES:Träning
END:VEVENT
END:VCALENDAR