BEGIN:VCALENDAR
VERSION:2.0
PRODID:-//wp-events-plugin.com//7.2.3.1//EN
BEGIN:VEVENT
UID:754@tjalveok.se
DTSTART:20260212T164500Z
DTEND:20260212T174500Z
DTSTAMP:20260117T113226Z
URL:https://tjalveok.se/evenemang/torsdagsintervaller-7/
SUMMARY:Torsdagsintervaller
DESCRIPTION:Tema: Intervaller slå din drömtid på 5 km spring 10 x 500 m 
 på sin "dräm" kilometertid. Ingen pannlampa behövs.\n\nSamling: Hagebyh
 allen vid Sydvallen 58°34'15.6\, 16°11'58.8\n\nDörren är öppen kl. 17
 .35 till 17.40.\n\nGlöm inte anmälan i excelfilen.  &gt\; Anmälan til
 l träningar - Google Kalkylark (senast dagen före träning kl 12)\n\nAn
 svariga: Jonas Axén\, Pontus Brander\, Peter Ettling\,\n\n&nbsp\;
CATEGORIES:Träning
END:VEVENT
END:VCALENDAR