BEGIN:VCALENDAR
VERSION:2.0
PRODID:-//wp-events-plugin.com//7.2.3.1//EN
BEGIN:VEVENT
UID:521@tjalveok.se
DTSTART:20250302T090000Z
DTEND:20250302T224500Z
DTSTAMP:20250210T152020Z
URL:https://tjalveok.se/evenemang/tjalvestugan-uthyrd-9/
SUMMARY:Tjalvestugan uthyrd
DESCRIPTION:
CATEGORIES:Tjalvestugan uthyrd
END:VEVENT
END:VCALENDAR