BEGIN:VCALENDAR
VERSION:2.0
PRODID:-//wp-events-plugin.com//7.2.3.1//EN
BEGIN:VEVENT
UID:221@tjalveok.se
DTSTART:20240329T090000Z
DTEND:20240330T090000Z
DTSTAMP:20240313T161850Z
URL:https://tjalveok.se/evenemang/tjalvestugan-prel-uthyrd-7/
SUMMARY:Tjalvestugan uthyrd
DESCRIPTION:
CATEGORIES:Tjalvestugan prel. uthyrd
END:VEVENT
END:VCALENDAR