BEGIN:VCALENDAR
VERSION:2.0
PRODID:-//wp-events-plugin.com//7.2.3.1//EN
BEGIN:VEVENT
UID:946@tjalveok.se
DTSTART:20260606T090000Z
DTEND:20260607T090000Z
DTSTAMP:20260410T082712Z
URL:https://tjalveok.se/evenemang/tjalvestugan-prel-uthyrd-64/
SUMMARY:Tjalvestugan uthyrd
DESCRIPTION:
CATEGORIES:Tjalvestugan prel. uthyrd
END:VEVENT
END:VCALENDAR