BEGIN:VCALENDAR
VERSION:2.0
PRODID:-//wp-events-plugin.com//7.2.3.1//EN
BEGIN:VEVENT
UID:915@tjalveok.se
DTSTART:20260530T090000Z
DTEND:20260530T224500Z
DTSTAMP:20260311T110451Z
URL:https://tjalveok.se/evenemang/tjalvestugan-prel-uthyrd-57/
SUMMARY:Tjalvestugan uthyrd
DESCRIPTION:
CATEGORIES:Tjalvestugan prel. uthyrd
END:VEVENT
END:VCALENDAR