BEGIN:VCALENDAR
VERSION:2.0
PRODID:-//wp-events-plugin.com//7.2.3.1//EN
BEGIN:VEVENT
UID:700@tjalveok.se
DTSTART:20251129T090000Z
DTEND:20251130T090000Z
DTSTAMP:20251124T194424Z
URL:https://tjalveok.se/evenemang/tjalvestugan-prel-uthyrd-48/
SUMMARY:Tjalvestugan  uthyrd
DESCRIPTION:
CATEGORIES:Tjalvestugan prel. uthyrd
END:VEVENT
END:VCALENDAR