BEGIN:VCALENDAR
VERSION:2.0
PRODID:-//wp-events-plugin.com//7.2.3.1//EN
BEGIN:VEVENT
UID:591@tjalveok.se
DTSTART:20250531T090000Z
DTEND:20250601T090000Z
DTSTAMP:20250521T190235Z
URL:https://tjalveok.se/evenemang/tjalvestugan-prel-uthyrd-34/
SUMMARY:Tjalvestugan uthyrd
DESCRIPTION:
CATEGORIES:Tjalvestugan prel. uthyrd
END:VEVENT
END:VCALENDAR