BEGIN:VCALENDAR
VERSION:2.0
PRODID:-//wp-events-plugin.com//7.2.3.1//EN
BEGIN:VEVENT
UID:561@tjalveok.se
DTSTART:20250606T090000Z
DTEND:20250608T090000Z
DTSTAMP:20250509T093543Z
URL:https://tjalveok.se/evenemang/tjalvestugan-prel-uthyrd-32/
SUMMARY:Tjalvestugan  uthyrd
DESCRIPTION:
CATEGORIES:Tjalvestugan prel. uthyrd
END:VEVENT
END:VCALENDAR