BEGIN:VCALENDAR
VERSION:2.0
PRODID:-//wp-events-plugin.com//7.2.3.1//EN
BEGIN:VEVENT
UID:854@tjalveok.se
DTSTART:20260312T080000Z
DTEND:20260312T110000Z
DTSTAMP:20260131T180253Z
URL:https://tjalveok.se/evenemang/tjalvegarden-veteranerna-formiddagstraff
 -19/
SUMMARY:Tjalvegården\, Veteranerna förmiddagsträff
DESCRIPTION:
CATEGORIES:Tjalvearrangemang
END:VEVENT
END:VCALENDAR