BEGIN:VCALENDAR
VERSION:2.0
PRODID:-//wp-events-plugin.com//7.2.3.1//EN
BEGIN:VEVENT
UID:850@tjalveok.se
DTSTART:20260219T080000Z
DTEND:20260219T110000Z
DTSTAMP:20260131T180214Z
URL:https://tjalveok.se/evenemang/tjalvegarden-veteranerna-formiddagstraff
 -16/
SUMMARY:Tjalvegården\, Veteranerna förmiddagsträff
DESCRIPTION:
CATEGORIES:Tjalvearrangemang
END:VEVENT
END:VCALENDAR