BEGIN:VCALENDAR
VERSION:2.0
PRODID:-//wp-events-plugin.com//7.2.3.1//EN
BEGIN:VEVENT
UID:698@tjalveok.se
DTSTART:20251211T160000Z
DTEND:20251211T200000Z
DTSTAMP:20251016T172426Z
URL:https://tjalveok.se/evenemang/tjalvegarden-uthyrd-tjalve-fri/
SUMMARY:Tjalvegården uthyrd\, Tjalve FRI
DESCRIPTION:
CATEGORIES:Tjalvegården uthyrd
END:VEVENT
END:VCALENDAR