BEGIN:VCALENDAR
VERSION:2.0
PRODID:-//wp-events-plugin.com//7.2.3.1//EN
BEGIN:VEVENT
UID:697@tjalveok.se
DTSTART:20251212T140000Z
DTEND:20251213T110000Z
DTSTAMP:20251015T191917Z
URL:https://tjalveok.se/evenemang/tjalvegarden-ungdomslager/
SUMMARY:Tjalvegården ungdomsläger
DESCRIPTION:
CATEGORIES:Tjalvearrangemang
END:VEVENT
END:VCALENDAR