BEGIN:VCALENDAR
VERSION:2.0
PRODID:-//wp-events-plugin.com//7.2.3.1//EN
BEGIN:VEVENT
UID:409@tjalveok.se
DTSTART:20241210T230000Z
DTEND:20241210T230000Z
DTSTAMP:20241122T183745Z
URL:https://tjalveok.se/evenemang/tjalvegarden-tjs-fixare/
SUMMARY:Tjalvegården\, TjS fixare
DESCRIPTION:
CATEGORIES:Tjalvearrangemang
END:VEVENT
END:VCALENDAR