BEGIN:VCALENDAR
VERSION:2.0
PRODID:-//wp-events-plugin.com//7.2.3.1//EN
BEGIN:VEVENT
UID:513@tjalveok.se
DTSTART:20250326T160000Z
DTEND:20250326T200000Z
DTSTAMP:20250122T164325Z
URL:https://tjalveok.se/evenemang/tjalvegarden-tjalve-friidrott-arsmote/
SUMMARY:Tjalvegården Tjalve friidrott årsmöte
DESCRIPTION:
CATEGORIES:Tjalvegården uthyrd
END:VEVENT
END:VCALENDAR