BEGIN:VCALENDAR
VERSION:2.0
PRODID:-//wp-events-plugin.com//7.2.3.1//EN
BEGIN:VEVENT
UID:911@tjalveok.se
DTSTART:20260412T130000Z
DTEND:20260412T180000Z
DTSTAMP:20260304T090552Z
URL:https://tjalveok.se/evenemang/tjalvegarden-tjalve-fri-2/
SUMMARY:Tjalvegården\, Tjalve FRI
DESCRIPTION:
CATEGORIES:Tjalvegården uthyrd
END:VEVENT
END:VCALENDAR