BEGIN:VCALENDAR
VERSION:2.0
PRODID:-//wp-events-plugin.com//7.2.3.1//EN
BEGIN:VEVENT
UID:819@tjalveok.se
DTSTART:20260214T120000Z
DTEND:20260215T080000Z
DTSTAMP:20260116T110454Z
URL:https://tjalveok.se/evenemang/tjalvegarden-prel-uthyrd-58/
SUMMARY:Tjalvegården uthyrd
DESCRIPTION:
CATEGORIES:Tjalvegården prel. uthyrd
END:VEVENT
END:VCALENDAR