BEGIN:VCALENDAR
VERSION:2.0
PRODID:-//wp-events-plugin.com//7.2.3.1//EN
BEGIN:VEVENT
UID:263@tjalveok.se
DTSTART:20240727T110000Z
DTEND:20240728T110000Z
DTSTAMP:20240617T081603Z
URL:https://tjalveok.se/evenemang/tjalvegarden-prel-uthyrd-13/
SUMMARY:Tjalvegården uthyrd
DESCRIPTION:
CATEGORIES:Tjalvegården prel. uthyrd
END:VEVENT
END:VCALENDAR