BEGIN:VCALENDAR
VERSION:2.0
PRODID:-//wp-events-plugin.com//7.2.3.1//EN
BEGIN:VEVENT
UID:262@tjalveok.se
DTSTART:20240706T110000Z
DTEND:20240707T110000Z
DTSTAMP:20240619T162612Z
URL:https://tjalveok.se/evenemang/tjalvegarden-prel-uthyrd-12/
SUMMARY:Tjalvegården uthyrd
DESCRIPTION:
CATEGORIES:Tjalvegården prel. uthyrd
END:VEVENT
END:VCALENDAR