BEGIN:VCALENDAR
VERSION:2.0
PRODID:-//wp-events-plugin.com//7.2.3.1//EN
BEGIN:VEVENT
UID:723@tjalveok.se
DTSTART:20260224T164500Z
DTEND:20260224T180000Z
DTSTAMP:20260125T095744Z
URL:https://tjalveok.se/evenemang/tisdagstraning-9/
SUMMARY:Tisdagsträning
DESCRIPTION:Tema: Reflexrundan\n\nSamling: Tjalvegården\n\nTa med pannlamp
 a. Några finns att låna på Tjalvegården.\n\nVi delar upp oss i grupper
  så att alla har någon att springa med. Men man kan givetvis även välj
 a att ta en egen löprunda. Skor efter underlag.\n\nBastun kommer att vara
  igång\n\nGlöm inte att anmäla er till soppa samtidigt som ni anmäler 
 er till träningarna om ni vill stanna och äta\n\nVi turas alla om och la
 ga soppa någon var under vintern.\n\nSoppvärdar vinter 2025/2026 - Googl
 e Kalkylark\n\n&nbsp\;
CATEGORIES:Träning
END:VEVENT
END:VCALENDAR