BEGIN:VCALENDAR
VERSION:2.0
PRODID:-//wp-events-plugin.com//7.2.3.1//EN
BEGIN:VEVENT
UID:720@tjalveok.se
DTSTART:20251216T164500Z
DTEND:20251216T180000Z
DTSTAMP:20251206T221127Z
URL:https://tjalveok.se/evenemang/tisdagstraning-6/
SUMMARY:Skinkloppet
DESCRIPTION:Anmälan till Skinkloppet görs i Eventor senast söndag 14 dec
 ember.\n\nSamling: Tjalvegården\n\nTa med pannlampa. Några finns att lå
 na på Tjalvegården.\n\nTema: Skinkloppet. Pannlampa och OL-skor\n\n&nbsp
 \;\n\nBastun kommer att vara igång\n\nGlöm inte att anmäla er till sopp
 a om ni vill äta soppa efter loppet.\n\nVi turas alla om och laga soppa n
 ågon var under vintern.\n\nSoppvärdar vinter 2025/2026 - Google Kalkylar
 k\n\n&nbsp\;
CATEGORIES:Träning
END:VEVENT
END:VCALENDAR