BEGIN:VCALENDAR
VERSION:2.0
PRODID:-//wp-events-plugin.com//7.2.3.1//EN
BEGIN:VEVENT
UID:725@tjalveok.se
DTSTART:20260324T163000Z
DTEND:20260324T180000Z
DTSTAMP:20260323T063411Z
URL:https://tjalveok.se/evenemang/tisdagstraning-11/
SUMMARY:Tisdagsträning
DESCRIPTION:OBS TIDEN!!!. Vi börjar 15 min tidigare med tanke på skymning
 en\n\nSamling: Luddingsbo\n\nKoordinater: 58.504603\, 16.207627\n\nDet kan
  behövas pannlampa så ta med pannlampa.\n\nTema: Stafettträning\n\nNiv
 å: Orange + violett/svartnivå\n\nGlöm inte anmälan i excelfilen.  &g
 t\; Anmälan till träningar - Google Kalkylark (senast dagen före trän
 ing kl 12) så att träningsvärdarna hinner skriva ut rätt antal kartor.
 \n\nTräningsvärdar: Maria\, Stefan och Kalle K\n\n&nbsp\;\n\n&nbsp\;\n\n
 &nbsp\;
CATEGORIES:Träning
END:VEVENT
END:VCALENDAR