BEGIN:VCALENDAR
VERSION:2.0
PRODID:-//wp-events-plugin.com//7.2.3.1//EN
BEGIN:VEVENT
UID:465@tjalveok.se
DTSTART:20250318T164500Z
DTEND:20250318T180000Z
DTSTAMP:20250202T155359Z
URL:https://tjalveok.se/evenemang/tisdags-traning-med-soppa-17/
SUMMARY:Tisdagsträning med soppa och årsmöte
DESCRIPTION:Löpträning och årsmöte Tjalve OK.\n\nTema: 2\,5:an på tid\
 n\nPlats: Tjalvegården med möjlighet till ombyte och bastu\n\nDet finns 
 möjlighet att äta soppa till självkostnadspris.\n\nAnmäl er gärna fö
 r att laga soppa vid ett tillfälle under vintern.\n\nSoppvärdar vinter 2
 024/2025 - Google Kalkylark\n\nGlöm inte anmälan i excelfilen.  &gt\;
  Anmälan (senast dagen före träning kl 12)
CATEGORIES:Träning
END:VEVENT
END:VCALENDAR