BEGIN:VCALENDAR
VERSION:2.0
PRODID:-//wp-events-plugin.com//7.2.3.1//EN
BEGIN:VEVENT
UID:463@tjalveok.se
DTSTART:20250311T164500Z
DTEND:20250311T180000Z
DTSTAMP:20250202T155231Z
URL:https://tjalveok.se/evenemang/tisdags-traning-med-soppa-16/
SUMMARY:Tisdags träning med soppa
DESCRIPTION:Löpträning\n\nTema: Intervaller (korta) på spåret. Ingen pa
 nnlampa behövs.\n\nPlats: Tjalvegården med möjlighet till ombyte och ba
 stu\n\nDet finns möjlighet att äta soppa till självkostnadspris.\n\nAnm
 äl er gärna för att laga soppa vid ett tillfälle under vintern.\n\nSop
 pvärdar vinter 2024/2025 - Google Kalkylark\n\nGlöm inte anmälan i exce
 lfilen.  &gt\; Anmälan (senast dagen före träning kl 12)
CATEGORIES:Träning
END:VEVENT
END:VCALENDAR