BEGIN:VCALENDAR
VERSION:2.0
PRODID:-//wp-events-plugin.com//7.2.3.1//EN
BEGIN:VEVENT
UID:451@tjalveok.se
DTSTART:20250204T164500Z
DTEND:20250204T180000Z
DTSTAMP:20250202T154301Z
URL:https://tjalveok.se/evenemang/tisdags-traning-med-soppa-10/
SUMMARY:Tisdags träning med soppa
DESCRIPTION:Löpträning\n\nTema: Reflexbana i tröskelfart. Pannlampa beh
 övs\n\nPlats: Tjalvegården med möjlighet till ombyte och bastu\n\nDet f
 inns möjlighet att äta soppa till självkostnadspris.\n\nAnmäl er gärn
 a för att laga soppa vid ett tillfälle under vintern.\n\nSoppvärdar vin
 ter 2024/2025 - Google Kalkylark\n\nGlöm inte anmälan i excelfilen.  &
 gt\; Anmälan (senast dagen före träning kl 12)
CATEGORIES:Träning
END:VEVENT
END:VCALENDAR