BEGIN:VCALENDAR
VERSION:2.0
PRODID:-//wp-events-plugin.com//7.2.3.1//EN
BEGIN:VEVENT
UID:886@tjalveok.se
DTSTART:20260329T100000Z
DTEND:20260329T130000Z
DTSTAMP:20260228T160832Z
URL:https://tjalveok.se/evenemang/tibrotrippeln-lang/
SUMMARY:Tibrotrippeln\, lång
DESCRIPTION:Inbjudan\n\nAnmälan via Eventor\n\nEventor - Tävlingsinformat
 ion: Tibrotrippeln\, lång
END:VEVENT
END:VCALENDAR