BEGIN:VCALENDAR
VERSION:2.0
PRODID:-//wp-events-plugin.com//7.2.3.1//EN
BEGIN:VEVENT
UID:884@tjalveok.se
DTSTART:20260327T190000Z
DTEND:20260327T200000Z
DTSTAMP:20260228T160404Z
URL:https://tjalveok.se/evenemang/tibro-natt/
SUMMARY:Tibro Natt
DESCRIPTION:Inbjudan\n\nAnmälan via Eventor\n\nEventor - Tävlingsinformat
 ion: Tibrotrippeln\, natt
END:VEVENT
END:VCALENDAR