BEGIN:VCALENDAR
VERSION:2.0
PRODID:-//wp-events-plugin.com//7.2.3.1//EN
BEGIN:VEVENT
UID:219@tjalveok.se
DTSTART:20240321T164500Z
DTEND:20240321T180000Z
DTSTAMP:20240305T212058Z
URL:https://tjalveok.se/evenemang/tekniktraning/
SUMMARY:Teknikträning
DESCRIPTION:Teknikträning för alla\n\nSamling: Tjalvegården 17.45\n\nGr
 ön-Vit-Gul kör "Tores bana"\n\nOrange-Violett-Svart kör en 3-mannastafe
 tt\n\nGlöm inte anmälan i excelfilen.  &gt\; Anmälan\n\nAnsvarig för 
 kartor och uthängning: Ledargruppen
CATEGORIES:Träning
END:VEVENT
END:VCALENDAR