BEGIN:VCALENDAR
VERSION:2.0
PRODID:-//wp-events-plugin.com//7.2.3.1//EN
BEGIN:VEVENT
UID:254@tjalveok.se
DTSTART:20240502T164500Z
DTEND:20240502T180000Z
DTSTAMP:20240429T180235Z
URL:https://tjalveok.se/evenemang/tekniktraning-8/
SUMMARY:Teknikträning
DESCRIPTION:Teknikträning för alla\n\nGrön/Vit - svart: Sprint-slingor i
  Vilbergen\n\nSamling: Tjalvegården\,  Vrinneviskogen 17.45.\n\nTa med e
 gen SI-pinne om du har.\n\nAnsvarig för kartor och uthängning: Andreas T
 \, Joel S\, Johan C\, Kakan\n\nGlöm inte anmälan i excelfilen.  &gt\; A
 nmälan (senast dagen före träning kl 12)
CATEGORIES:Träning
END:VEVENT
END:VCALENDAR