BEGIN:VCALENDAR
VERSION:2.0
PRODID:-//wp-events-plugin.com//7.2.3.1//EN
BEGIN:VEVENT
UID:233@tjalveok.se
DTSTART:20240404T164500Z
DTEND:20240404T180000Z
DTSTAMP:20240401T090622Z
URL:https://tjalveok.se/evenemang/tekniktraning-4/
SUMMARY:Teknikträning - OBS justerad träning
DESCRIPTION:Teknikträning för alla - OBS justerad träning\n\nPga inkomma
 nde snöoväder i veckan justerar vi träningarna\n\nSamling: Tjalvegårde
 n kl 17.45\n\nGrön/Vit-Svart: Intervallträning\n\nGlöm inte anmälan i 
 excelfilen.  &gt\; Anmälan (Anmäl senast dagen före kl 12.00)\n\nAnsva
 rig för kartor och uthängning: Träningsgruppen
CATEGORIES:Träning
END:VEVENT
END:VCALENDAR