BEGIN:VCALENDAR
VERSION:2.0
PRODID:-//wp-events-plugin.com//7.2.3.1//EN
BEGIN:VEVENT
UID:232@tjalveok.se
DTSTART:20240402T164500Z
DTEND:20240402T180000Z
DTSTAMP:20240401T090530Z
URL:https://tjalveok.se/evenemang/tekniktraning-3/
SUMMARY:Teknikträning - OBS justerad träning
DESCRIPTION:Teknikträning för alla- OBS justerat\n\nOBS! Justerat tränin
 gsupplägg pga snöväder på ingång\n\nSamling: Tjalvegården kl 17.45\n
 \nVit-Svart: Styrketräningspass + teori för orange nivå efter passet\n\
 nGlöm inte anmälan i excelfilen.  &gt\; Anmälan (Anmäl senast dagen f
 öre kl 12.00)\n\nAnsvarig för kartor och uthängning: Träningsgruppen
CATEGORIES:Träning
END:VEVENT
END:VCALENDAR