BEGIN:VCALENDAR
VERSION:2.0
PRODID:-//wp-events-plugin.com//7.2.3.1//EN
BEGIN:VEVENT
UID:323@tjalveok.se
DTSTART:20241017T164500Z
DTEND:20241017T180000Z
DTSTAMP:20241007T110306Z
URL:https://tjalveok.se/evenemang/tekniktraning-24/
SUMMARY:Teknikträning
DESCRIPTION:Teknikträning för alla\n\nKeps-OL\n\nTa med Pannlampa. Det fi
 nns några att låna på Tjalvegården.\n\nSamling: Tjalvegården\n\nParke
 ring: Vrinneviskogen eller Vrinnevi Park\n\nAnsvarig för utskrift av kart
 or: ledargruppen\n\nGlöm inte anmälan i excelfilen.  &gt\; Anmälan 
 (senast dagen före träning kl 12)
CATEGORIES:Träning
END:VEVENT
END:VCALENDAR