BEGIN:VCALENDAR
VERSION:2.0
PRODID:-//wp-events-plugin.com//7.2.3.1//EN
BEGIN:VEVENT
UID:316@tjalveok.se
DTSTART:20241003T164500Z
DTEND:20241003T180000Z
DTSTAMP:20240822T124356Z
URL:https://tjalveok.se/evenemang/tekniktraning-21/
SUMMARY:Teknikträning
DESCRIPTION:Teknikträning för alla\n\nSlingor\n\nSamling: Tjalvegården\n
 \nParkering: Vrinneviskogen eller vid Vrinnevi Park\n\nAnsvarig för karto
 r och uthängning: Tränargruppen\n\nGlöm inte anmälan i excelfilen.  
 &gt\; Anmälan (senast dagen före träning kl 12)
CATEGORIES:Träning
END:VEVENT
END:VCALENDAR