BEGIN:VCALENDAR
VERSION:2.0
PRODID:-//wp-events-plugin.com//7.2.3.1//EN
BEGIN:VEVENT
UID:256@tjalveok.se
DTSTART:20240530T164500Z
DTEND:20240530T180000Z
DTSTAMP:20240524T100049Z
URL:https://tjalveok.se/evenemang/tekniktraning-10/
SUMMARY:Teknikträning
DESCRIPTION:Teknikträning för alla\n\nGrön/Vit: Korta slingor\n\nGul- Sv
 art: Häng ut-spring in. Vi springer två och två och hänger ut en sling
 a - plockar sedan in en annan. Eftersom det ingår uthängning anmäl dig 
 till rätt svårighet.\n\nSamling: Träningen är vid Mela Scoutstuga och 
 startar 17.45. OBS! Vi samlas 17.30 vid bommen in till Mela för gemensam 
 passage\, GPS: 58.682104\, 16.220692. Bommen är öppen 17.30-17.35!!\n\nP
 arkering på övre gräsytan vid Mela: GPS 58.703278\, 16.204213\n\nÄr de
 t fint väder ta gärna med badkläder då det finns möjlighet till bad i
  Glottern.\n\nVi behöver också ha en gemensam utfartstid. Det bestämmer
  vi gemensamt på träningen.\n\nAnsvarig för kartor och uthängning: Led
 argruppen\n\nFrågor: Lisa M (0703904021)\n\nGlöm inte anmälan i excelfi
 len.  &gt\; Anmälan (dagen före träning kl 12)
CATEGORIES:Träning
END:VEVENT
END:VCALENDAR