BEGIN:VCALENDAR
VERSION:2.0
PRODID:-//wp-events-plugin.com//7.2.3.1//EN
BEGIN:VEVENT
UID:565@tjalveok.se
DTSTART:20250403T164500Z
DTEND:20250403T181500Z
DTSTAMP:20250326T192448Z
URL:https://tjalveok.se/evenemang/teknikplock/
SUMMARY:Teknikbana
DESCRIPTION:Teknikplock (långsträckor/kontrollplock)\n\nPlats Ensjön\, k
 oordinater: 58.549029\, 16.216928\n\nAnmäl i excel senast lunch dagen inn
 an träning.\n\nAnmälan till träningar - Google Kalkylark\n\nTräningsv
 ärdar är Maria P\, Stefan N\, Ida N\, Pontus B
CATEGORIES:Träning
END:VEVENT
END:VCALENDAR