BEGIN:VCALENDAR
VERSION:2.0
PRODID:-//wp-events-plugin.com//7.2.3.1//EN
BEGIN:VEVENT
UID:887@tjalveok.se
DTSTART:20260403T090000Z
DTEND:20260403T110000Z
DTSTAMP:20260228T172707Z
URL:https://tjalveok.se/evenemang/swedish-league-1-kosprint/
SUMMARY:Swedish League #1 -  Sprint
DESCRIPTION:Microsoft Word - Inbjudan Swedish League 3 april 2026 - new.doc
 x\n\nAnmälan via Eventor\n\nEventor - Tävlingsinformation: Swedish Leagu
 e\, #1\, sprint (WRE) + Påsksprinten (Publiktävling)
CATEGORIES:Tävling
END:VEVENT
END:VCALENDAR