BEGIN:VCALENDAR
VERSION:2.0
PRODID:-//wp-events-plugin.com//7.2.3.1//EN
BEGIN:VEVENT
UID:237@tjalveok.se
DTSTART:20240413T230000Z
DTEND:20240413T230000Z
DTSTAMP:20240313T203430Z
URL:https://tjalveok.se/evenemang/stigtomtakavlen/
SUMMARY:Stigtomtakavlen
DESCRIPTION:Stigtomtakavlen\n\nVi gör flera Tjalvelag\, både ålders-lag 
 och öppna lag. Anmäl dig på listor som finns med på träning eller i f
 ormulär som skickats ut på mail.\n\nSamling: Slätmossen\, Lundaskog\, J
 önåker. Från trafikplats 129 på E4\, kör mot Jönåker.\nDärefter v
 äg 504 mot Kolmården. Efter 4 km kommer avfart med trafikskyltning in p
 å skogsbilväg. Därefter ca 1 km till P.\nKoordinater (58.72163 16.67859
  )\n\nObservera att i klasserna "Damer" och "Herrar " startar förstasträ
 ckan på lördag kväll. Se inbjudan och PM.\n\nEventor - Tävlingsinforma
 tion: Stigtomtakavlen (Stafettligan\, #2) (orientering.se)
END:VEVENT
END:VCALENDAR