BEGIN:VCALENDAR
VERSION:2.0
PRODID:-//wp-events-plugin.com//7.2.3.1//EN
BEGIN:VEVENT
UID:889@tjalveok.se
DTSTART:20260406T090000Z
DTEND:20260406T130000Z
DTSTAMP:20260228T162648Z
URL:https://tjalveok.se/evenemang/stafettligan-1-oppna-klasser/
SUMMARY:Stafettligan #1 / öppna klasser
DESCRIPTION:Eventor - Tävlingsinformation: Kolmårdskavlen (Stafettligan\,
  #1)\n\nAnmälan via Eventor\n\nInbjudan-Kolm-rdskavlen-2026
END:VEVENT
END:VCALENDAR