BEGIN:VCALENDAR
VERSION:2.0
PRODID:-//wp-events-plugin.com//7.2.3.1//EN
BEGIN:VEVENT
UID:904@tjalveok.se
DTSTART:20260530T073000Z
DTEND:20260530T093000Z
DTSTAMP:20260228T170735Z
URL:https://tjalveok.se/evenemang/sommarlandssprinten-2/
SUMMARY:Sommarlandssprinten
DESCRIPTION:Inbjudan Skara_Lidköping_sve\n\nAnmälan via Eventor\n\nEvento
 r - Tävlingsinformation: World Cup Spectator Race #2 - Sommarlandssprinte
 n
END:VEVENT
END:VCALENDAR