BEGIN:VCALENDAR
VERSION:2.0
PRODID:-//wp-events-plugin.com//7.2.3.1//EN
BEGIN:VEVENT
UID:68@tjalveok.se
DTSTART:20240113T090000Z
DTEND:20240113T110000Z
DTSTAMP:20240104T222908Z
URL:https://tjalveok.se/evenemang/peking-youth-cup-fran-13-ar/
SUMMARY:Peking Youth Cup (från 13 år)
DESCRIPTION:Inbjudan och anmälan\nhttps://eventor.orientering.se/Events/Sh
 ow/48237\n\nSamling\nhttps://maps.app.goo.gl/APQ1b5SEVvh1WJMW8
CATEGORIES:Träning
END:VEVENT
END:VCALENDAR