BEGIN:VCALENDAR
VERSION:2.0
PRODID:-//wp-events-plugin.com//7.2.3.1//EN
BEGIN:VEVENT
UID:796@tjalveok.se
DTSTART:20251209T170000Z
DTEND:20251209T190000Z
DTSTAMP:20251205T174626Z
URL:https://tjalveok.se/evenemang/peking-vintercup-2/
SUMMARY:Peking Vintercup #2
DESCRIPTION:Nais  bjuder in till säsongens första Peking Vintercup\n\nIn
 bjudan\n\nAnmälan görs via Eventor\n\nEventor - Tävlingsinformation: Pe
 king vintercup 9/12 2025\n\n&nbsp\;\n\n&nbsp\;\n\n&nbsp\;
CATEGORIES:Träning
END:VEVENT
END:VCALENDAR