BEGIN:VCALENDAR
VERSION:2.0
PRODID:-//wp-events-plugin.com//7.2.3.1//EN
BEGIN:VEVENT
UID:319@tjalveok.se
DTSTART:20241015T164500Z
DTEND:20241015T180000Z
DTSTAMP:20240822T124551Z
URL:https://tjalveok.se/evenemang/peking-night-4/
SUMMARY:Peking Night
DESCRIPTION:Mer information kommer\n\nAnmälan via eventor
CATEGORIES:Träning
END:VEVENT
END:VCALENDAR