BEGIN:VCALENDAR
VERSION:2.0
PRODID:-//wp-events-plugin.com//7.2.3.1//EN
BEGIN:VEVENT
UID:318@tjalveok.se
DTSTART:20241008T164500Z
DTEND:20241008T180000Z
DTSTAMP:20240822T124520Z
URL:https://tjalveok.se/evenemang/peking-night-3/
SUMMARY:Peking Night
DESCRIPTION:Mer information kommer\n\nAnmälan via eventor
CATEGORIES:Träning
END:VEVENT
END:VCALENDAR