BEGIN:VCALENDAR
VERSION:2.0
PRODID:-//wp-events-plugin.com//7.2.3.1//EN
BEGIN:VEVENT
UID:896@tjalveok.se
DTSTART:20260510T090000Z
DTEND:20260510T120000Z
DTSTAMP:20260228T164930Z
URL:https://tjalveok.se/evenemang/peking-duon-2/
SUMMARY:Peking duon
DESCRIPTION:Anmälan via Eventor\n\nEventor - Tävlingsinformation: Pekingd
 uon
END:VEVENT
END:VCALENDAR