BEGIN:VCALENDAR
VERSION:2.0
PRODID:-//wp-events-plugin.com//7.2.3.1//EN
BEGIN:VEVENT
UID:706@tjalveok.se
DTSTART:20251206T090000Z
DTEND:20251206T110000Z
DTSTAMP:20251121T065154Z
URL:https://tjalveok.se/evenemang/ostgotatraning-6/
SUMMARY:Östgötaträning 6
DESCRIPTION:Tjalve OK bjuder till till träning för juniorerna\n\nTema: L
 ång momentbana\n\nAnmälan göra via eventor\n\nEventor - Tävlingsinform
 ation: Östgötaträning\n\n&nbsp\;
CATEGORIES:Träning
END:VEVENT
END:VCALENDAR