BEGIN:VCALENDAR
VERSION:2.0
PRODID:-//wp-events-plugin.com//7.2.3.1//EN
BEGIN:VEVENT
UID:711@tjalveok.se
DTSTART:20260207T090000Z
DTEND:20260207T110000Z
DTSTAMP:20251022T112405Z
URL:https://tjalveok.se/evenemang/ostgotatraning-11/
SUMMARY:Östgötaträning 11
DESCRIPTION:Boxholm bjuder till till träning för juniorerna\n\nTema: Staf
 ettträning gemensam start. Tiomilalik karta\n\nAnmälan göra via eventor
 \n\nNär detta lades in i kalendern fanns det ingen information i eventor 
 ännu så tiden är preliminär
CATEGORIES:Träning
END:VEVENT
END:VCALENDAR